BEGIN:VCALENDAR
VERSION:2.0
PRODID:-//Meredith Oral History Project - ECPv6.15.20//NONSGML v1.0//EN
CALSCALE:GREGORIAN
METHOD:PUBLISH
X-ORIGINAL-URL:https://oralhistory.meredithlibrary.org
X-WR-CALDESC:Events for Meredith Oral History Project
REFRESH-INTERVAL;VALUE=DURATION:PT1H
X-Robots-Tag:noindex
X-PUBLISHED-TTL:PT1H
BEGIN:VTIMEZONE
TZID:America/New_York
BEGIN:DAYLIGHT
TZOFFSETFROM:-0500
TZOFFSETTO:-0400
TZNAME:EDT
DTSTART:20170312T070000
END:DAYLIGHT
BEGIN:STANDARD
TZOFFSETFROM:-0400
TZOFFSETTO:-0500
TZNAME:EST
DTSTART:20171105T060000
END:STANDARD
BEGIN:DAYLIGHT
TZOFFSETFROM:-0500
TZOFFSETTO:-0400
TZNAME:EDT
DTSTART:20180311T070000
END:DAYLIGHT
BEGIN:STANDARD
TZOFFSETFROM:-0400
TZOFFSETTO:-0500
TZNAME:EST
DTSTART:20181104T060000
END:STANDARD
BEGIN:DAYLIGHT
TZOFFSETFROM:-0500
TZOFFSETTO:-0400
TZNAME:EDT
DTSTART:20190310T070000
END:DAYLIGHT
BEGIN:STANDARD
TZOFFSETFROM:-0400
TZOFFSETTO:-0500
TZNAME:EST
DTSTART:20191103T060000
END:STANDARD
END:VTIMEZONE
BEGIN:VEVENT
DTSTART;TZID=America/New_York:20180809T120000
DTEND;TZID=America/New_York:20180809T170000
DTSTAMP:20260423T142010
CREATED:20180220T232509Z
LAST-MODIFIED:20180220T232509Z
UID:133-1533816000-1533834000@oralhistory.meredithlibrary.org
SUMMARY:GMP Dedication of the Archie Statue in honor of Bob Montana
DESCRIPTION:GMP Dedication of the Archie Statue in honor of Bob Montana \nCommunity Park at 12pm
URL:https://oralhistory.meredithlibrary.org/event/gmp-dedication-of-the-archie-statue-in-honor-of-bob-montana/
LOCATION:Community Park\, Meredith\, NH\, 03253\, United States
END:VEVENT
BEGIN:VEVENT
DTSTART;TZID=America/New_York:20180704T140000
DTEND;TZID=America/New_York:20180704T160000
DTSTAMP:20260423T142010
CREATED:20180220T214540Z
LAST-MODIFIED:20180322T202636Z
UID:123-1530712800-1530720000@oralhistory.meredithlibrary.org
SUMMARY:1968 Time Capsule Unveiling
DESCRIPTION:250th Celebration! The 1968 Time Capsule will be unveiled! \nThis year Meredith celebrates its 250th anniversary! Back in 1968\, during the 200th anniversary\, a committee buried a time capsule to be opened in 2018 in the library lawn. Its time has come!! We will be opening it at 2PM at the Chase House on July 4. The Common Man is donating an ice cream social to the first 100 people to arrive and Carl Johnson\, Jr. will be emceeing the event! We will have a slideshow with photos from 1968and a presentation on the Meredith happenings from that year. We are sending a special invitation to those who were present when the time capsule was buried. Please email Erin erin@meredithlibrary.org or call 279-4303 if you would like to share your memories.
URL:https://oralhistory.meredithlibrary.org/event/1968-time-capsule-unveiling/
LOCATION:Chase House Inn\, 300 Daniel Webster Highway\, Meredith\, NH\, 03253\, United States
END:VEVENT
BEGIN:VEVENT
DTSTART;TZID=America/New_York:20180601T173000
DTEND;TZID=America/New_York:20180601T190000
DTSTAMP:20260423T142010
CREATED:20180529T162101Z
LAST-MODIFIED:20180529T162910Z
UID:192-1527874200-1527879600@oralhistory.meredithlibrary.org
SUMMARY:Meredith Oral History Project Kickoff
DESCRIPTION:The Meredith Public Library will be kicking off our community-wide oral history project on Friday\, June 1st at 5:30 PM at the Meredith Historical Society. The opening day will be a story circle of community members who were at the two-hundred year anniversary celebration in 1968. We are looking for people who attended the 1968 festivities and would like their memories recorded for posterity. If you or someone you know is interested in attending\, please contact the Meredith Public Library\, either by calling 603-279-4303\, or emailing matthew@meredithlibrary.org \nThe Oral History Project is part of Meredith’s 250th Anniversary Celebration and one of the outcomes will be to have an audio collection that can be included in the time capsule that will be resealed next July for the three hundredth anniversary in 2068.
URL:https://oralhistory.meredithlibrary.org/event/meredith-oral-history-project-kickoff/
LOCATION:Meredith Historical Society\, 45 Main St.\, Meredith\, NH\, 03253\, United States
ORGANIZER;CN="":MAILTO:erin@meredithlibrary.org
END:VEVENT
BEGIN:VEVENT
DTSTART;TZID=America/New_York:20180421T090000
DTEND;TZID=America/New_York:20180421T163000
DTSTAMP:20260423T142010
CREATED:20180308T004907Z
LAST-MODIFIED:20180308T004953Z
UID:151-1524301200-1524328200@oralhistory.meredithlibrary.org
SUMMARY:Oral History Workshop
DESCRIPTION:Registration is required. Seating is limited. Please call 279-4303 to sign up.  Learn interview techniques\, equipment\, how to begin\, and much  more!  Sponsored by a grant from the Nh Humanities council. \n\n\n\nCONTACT:  Erin Apostolos  603-279-4303  erin@meredithlibrary.org
URL:https://oralhistory.meredithlibrary.org/event/oral-history-workshop/
LOCATION:Meredith Public Library\, 91 Main St.\, Meredith\, NH\, 03253\, United States
END:VEVENT
END:VCALENDAR